
BEGIN:VCALENDAR
VERSION:2.0
PRODID:-//Parenting Together Washington County - ECPv6.15.16.1//NONSGML v1.0//EN
CALSCALE:GREGORIAN
METHOD:PUBLISH
X-WR-CALNAME:Parenting Together Washington County
X-ORIGINAL-URL:https://parentingtogetherwc.org
X-WR-CALDESC:Events for Parenting Together Washington County
REFRESH-INTERVAL;VALUE=DURATION:PT1H
X-Robots-Tag:noindex
X-PUBLISHED-TTL:PT1H
BEGIN:VTIMEZONE
TZID:America/Los_Angeles
BEGIN:DAYLIGHT
TZOFFSETFROM:-0800
TZOFFSETTO:-0700
TZNAME:PDT
DTSTART:20170312T100000
END:DAYLIGHT
BEGIN:STANDARD
TZOFFSETFROM:-0700
TZOFFSETTO:-0800
TZNAME:PST
DTSTART:20171105T090000
END:STANDARD
BEGIN:DAYLIGHT
TZOFFSETFROM:-0800
TZOFFSETTO:-0700
TZNAME:PDT
DTSTART:20180311T100000
END:DAYLIGHT
BEGIN:STANDARD
TZOFFSETFROM:-0700
TZOFFSETTO:-0800
TZNAME:PST
DTSTART:20181104T090000
END:STANDARD
BEGIN:DAYLIGHT
TZOFFSETFROM:-0800
TZOFFSETTO:-0700
TZNAME:PDT
DTSTART:20190310T100000
END:DAYLIGHT
BEGIN:STANDARD
TZOFFSETFROM:-0700
TZOFFSETTO:-0800
TZNAME:PST
DTSTART:20191103T090000
END:STANDARD
BEGIN:DAYLIGHT
TZOFFSETFROM:-0800
TZOFFSETTO:-0700
TZNAME:PDT
DTSTART:20200308T100000
END:DAYLIGHT
BEGIN:STANDARD
TZOFFSETFROM:-0700
TZOFFSETTO:-0800
TZNAME:PST
DTSTART:20201101T090000
END:STANDARD
END:VTIMEZONE
BEGIN:VEVENT
DTSTART;TZID=America/Los_Angeles:20190212T180000
DTEND;TZID=America/Los_Angeles:20190212T200000
DTSTAMP:20260423T003350
CREATED:20190125T005936Z
LAST-MODIFIED:20190125T011312Z
UID:10003519-1549994400-1550001600@parentingtogetherwc.org
SUMMARY:Incredible Years Parenting Series
DESCRIPTION:Metzger IY Flyer ENG
URL:https://parentingtogetherwc.org/event/incredible-years-parenting-series/
LOCATION:Metzger Elementary School\, 10350 Lincoln St\, Tigard\, 97223\, United States
CATEGORIES:Parenting Classes
ORGANIZER;CN="Youth Contact/Vicki Ball":MAILTO:vball@youthcontact.org
GEO:45.445704;-122.77081
X-APPLE-STRUCTURED-LOCATION;VALUE=URI;X-ADDRESS=Metzger Elementary School 10350 Lincoln St Tigard 97223 United States;X-APPLE-RADIUS=500;X-TITLE=10350 Lincoln St:geo:-122.77081,45.445704
END:VEVENT
BEGIN:VEVENT
DTSTART;TZID=America/Los_Angeles:20180201T180000
DTEND;TZID=America/Los_Angeles:20180201T200000
DTSTAMP:20260423T003350
CREATED:20171221T183505Z
LAST-MODIFIED:20171221T200454Z
UID:10002499-1517508000-1517515200@parentingtogetherwc.org
SUMMARY:The ABCs of Parenting
DESCRIPTION:A Nurturing Parenting series for parents and their children\, ages 5-8. \nGive your parenting skills a boost and connect with other parents in your community! \nThroughout this 7-week series\, you will learn:  \n\nTips for setting age-appropriate expectations.\nStrategies for effective problem-solving.\nWays to establish discipline through family rules\, rewards\, and alternatives to spanking/yelling.\nTips for helping children to manage their own behavior.\nTools to build personal power and self-worth in yourself and your children.\nStrategies for effective stress and anger management.
URL:https://parentingtogetherwc.org/event/the-abcs-of-parenting-2/
LOCATION:Metzger Elementary School\, 10350 Lincoln St\, Tigard\, 97223\, United States
CATEGORIES:Family-Friendly,Parenting Classes
ATTACH;FMTTYPE=image/jpeg:https://parentingtogetherwc.org/wp-content/uploads/2017/12/NP-TTSD-2017-2018-JPG-ENG.jpg
ORGANIZER;CN="Youth Contact/Vicki Ball":MAILTO:vball@youthcontact.org
GEO:45.445704;-122.77081
X-APPLE-STRUCTURED-LOCATION;VALUE=URI;X-ADDRESS=Metzger Elementary School 10350 Lincoln St Tigard 97223 United States;X-APPLE-RADIUS=500;X-TITLE=10350 Lincoln St:geo:-122.77081,45.445704
END:VEVENT
END:VCALENDAR