
BEGIN:VCALENDAR
VERSION:2.0
PRODID:-//Parenting Together Washington County - ECPv6.15.16.1//NONSGML v1.0//EN
CALSCALE:GREGORIAN
METHOD:PUBLISH
X-ORIGINAL-URL:https://parentingtogetherwc.org
X-WR-CALDESC:Events for Parenting Together Washington County
REFRESH-INTERVAL;VALUE=DURATION:PT1H
X-Robots-Tag:noindex
X-PUBLISHED-TTL:PT1H
BEGIN:VTIMEZONE
TZID:America/Los_Angeles
BEGIN:DAYLIGHT
TZOFFSETFROM:-0800
TZOFFSETTO:-0700
TZNAME:PDT
DTSTART:20180311T100000
END:DAYLIGHT
BEGIN:STANDARD
TZOFFSETFROM:-0700
TZOFFSETTO:-0800
TZNAME:PST
DTSTART:20181104T090000
END:STANDARD
BEGIN:DAYLIGHT
TZOFFSETFROM:-0800
TZOFFSETTO:-0700
TZNAME:PDT
DTSTART:20190310T100000
END:DAYLIGHT
BEGIN:STANDARD
TZOFFSETFROM:-0700
TZOFFSETTO:-0800
TZNAME:PST
DTSTART:20191103T090000
END:STANDARD
BEGIN:DAYLIGHT
TZOFFSETFROM:-0800
TZOFFSETTO:-0700
TZNAME:PDT
DTSTART:20200308T100000
END:DAYLIGHT
BEGIN:STANDARD
TZOFFSETFROM:-0700
TZOFFSETTO:-0800
TZNAME:PST
DTSTART:20201101T090000
END:STANDARD
END:VTIMEZONE
BEGIN:VEVENT
DTSTART;TZID=America/Los_Angeles:20190516T181500
DTEND;TZID=America/Los_Angeles:20190516T204500
DTSTAMP:20260423T050508
CREATED:20190424T170330Z
LAST-MODIFIED:20190424T170330Z
UID:10004026-1558030500-1558039500@parentingtogetherwc.org
SUMMARY:Building Family Resilience -Taller para construer familias fuertes
DESCRIPTION:PreventionThroughEducation_Flyer_Middle-HighSecondary Resiliency Workshop_Sp2
URL:https://parentingtogetherwc.org/event/building-family-resilience-taller-para-construer-familias-fuertes-2/
LOCATION:Tualatin High School\, 22300 SW Boones Ferry Road\, Tualatin\, OR\, 97062\, United States
CATEGORIES:Adult Workshop
END:VEVENT
BEGIN:VEVENT
DTSTART;TZID=America/Los_Angeles:20190228T183000
DTEND;TZID=America/Los_Angeles:20190228T193000
DTSTAMP:20260423T050508
CREATED:20190211T185821Z
LAST-MODIFIED:20190211T185843Z
UID:10003799-1551378600-1551382200@parentingtogetherwc.org
SUMMARY:Strong Voices Smart Choices - Parenting Workshop
DESCRIPTION:
URL:https://parentingtogetherwc.org/event/strong-voices-smart-choices/
LOCATION:Tualatin High School\, 22300 SW Boones Ferry Road\, Tualatin\, OR\, 97062\, United States
CATEGORIES:Parenting Workshop
END:VEVENT
END:VCALENDAR