
BEGIN:VCALENDAR
VERSION:2.0
PRODID:-//Parenting Together Washington County - ECPv6.15.16.1//NONSGML v1.0//EN
CALSCALE:GREGORIAN
METHOD:PUBLISH
X-ORIGINAL-URL:https://parentingtogetherwc.org
X-WR-CALDESC:Events for Parenting Together Washington County
REFRESH-INTERVAL;VALUE=DURATION:PT1H
X-Robots-Tag:noindex
X-PUBLISHED-TTL:PT1H
BEGIN:VTIMEZONE
TZID:America/Los_Angeles
BEGIN:DAYLIGHT
TZOFFSETFROM:-0800
TZOFFSETTO:-0700
TZNAME:PDT
DTSTART:20160313T100000
END:DAYLIGHT
BEGIN:STANDARD
TZOFFSETFROM:-0700
TZOFFSETTO:-0800
TZNAME:PST
DTSTART:20161106T090000
END:STANDARD
BEGIN:DAYLIGHT
TZOFFSETFROM:-0800
TZOFFSETTO:-0700
TZNAME:PDT
DTSTART:20170312T100000
END:DAYLIGHT
BEGIN:STANDARD
TZOFFSETFROM:-0700
TZOFFSETTO:-0800
TZNAME:PST
DTSTART:20171105T090000
END:STANDARD
BEGIN:DAYLIGHT
TZOFFSETFROM:-0800
TZOFFSETTO:-0700
TZNAME:PDT
DTSTART:20180311T100000
END:DAYLIGHT
BEGIN:STANDARD
TZOFFSETFROM:-0700
TZOFFSETTO:-0800
TZNAME:PST
DTSTART:20181104T090000
END:STANDARD
BEGIN:DAYLIGHT
TZOFFSETFROM:-0800
TZOFFSETTO:-0700
TZNAME:PDT
DTSTART:20190310T100000
END:DAYLIGHT
BEGIN:STANDARD
TZOFFSETFROM:-0700
TZOFFSETTO:-0800
TZNAME:PST
DTSTART:20191103T090000
END:STANDARD
BEGIN:DAYLIGHT
TZOFFSETFROM:-0800
TZOFFSETTO:-0700
TZNAME:PDT
DTSTART:20200308T100000
END:DAYLIGHT
BEGIN:STANDARD
TZOFFSETFROM:-0700
TZOFFSETTO:-0800
TZNAME:PST
DTSTART:20201101T090000
END:STANDARD
END:VTIMEZONE
BEGIN:VEVENT
DTSTART;TZID=America/Los_Angeles:20190925T180000
DTEND;TZID=America/Los_Angeles:20190925T200000
DTSTAMP:20260422T234859
CREATED:20190805T162630Z
LAST-MODIFIED:20190805T163134Z
UID:10003427-1569434400-1569441600@parentingtogetherwc.org
SUMMARY:Nurturing Hope - Nutriendo la esperanza
DESCRIPTION:NH Tuality 2019 FALL\nNH at Tuality 2019 FALL(SP) 3
URL:https://parentingtogetherwc.org/event/5545/
LOCATION:Tuality Health Education Center\, 334 SE 8th Ave\, Hillsboro\, OR\, 97123\, United States
CATEGORIES:Family-Friendly,Parenting Classes
ORGANIZER;CN="Youth Contact/Vicki Ball":MAILTO:vball@youthcontact.org
GEO:45.5195868;-122.9765017
X-APPLE-STRUCTURED-LOCATION;VALUE=URI;X-ADDRESS=Tuality Health Education Center 334 SE 8th Ave Hillsboro OR 97123 United States;X-APPLE-RADIUS=500;X-TITLE=334 SE 8th Ave:geo:-122.9765017,45.5195868
END:VEVENT
BEGIN:VEVENT
DTSTART;TZID=America/Los_Angeles:20190130T180000
DTEND;TZID=America/Los_Angeles:20190130T200000
DTSTAMP:20260422T234859
CREATED:20190107T211148Z
LAST-MODIFIED:20190107T211148Z
UID:10003537-1548871200-1548878400@parentingtogetherwc.org
SUMMARY:Nutriendo la esperanza serie
DESCRIPTION:NH at Tuality 2019 (SP)
URL:https://parentingtogetherwc.org/event/nutriendo-la-esperanza-serie/
LOCATION:Tuality Health Education Center\, 334 SE 8th Ave\, Hillsboro\, OR\, 97123\, United States
CATEGORIES:Parenting Classes
ORGANIZER;CN="Youth Contact/Vicki Ball":MAILTO:vball@youthcontact.org
GEO:45.5195868;-122.9765017
X-APPLE-STRUCTURED-LOCATION;VALUE=URI;X-ADDRESS=Tuality Health Education Center 334 SE 8th Ave Hillsboro OR 97123 United States;X-APPLE-RADIUS=500;X-TITLE=334 SE 8th Ave:geo:-122.9765017,45.5195868
END:VEVENT
BEGIN:VEVENT
DTSTART;TZID=America/Los_Angeles:20180907T083000
DTEND;TZID=America/Los_Angeles:20180907T163000
DTSTAMP:20260422T234859
CREATED:20180807T185233Z
LAST-MODIFIED:20180807T185233Z
UID:10003295-1536309000-1536337800@parentingtogetherwc.org
SUMMARY:2018 Latina Health Symposium: The Heart of the Family
DESCRIPTION:20180907 Latina Health Symposium Compressed
URL:https://parentingtogetherwc.org/event/2018-latina-health-symposium-heart-family/
LOCATION:Tuality Health Education Center\, 334 SE 8th Ave\, Hillsboro\, OR\, 97123\, United States
CATEGORIES:Adult Workshop
GEO:45.5195868;-122.9765017
X-APPLE-STRUCTURED-LOCATION;VALUE=URI;X-ADDRESS=Tuality Health Education Center 334 SE 8th Ave Hillsboro OR 97123 United States;X-APPLE-RADIUS=500;X-TITLE=334 SE 8th Ave:geo:-122.9765017,45.5195868
END:VEVENT
BEGIN:VEVENT
DTSTART;TZID=America/Los_Angeles:20180307T180000
DTEND;TZID=America/Los_Angeles:20180307T200000
DTSTAMP:20260422T234859
CREATED:20180215T164624Z
LAST-MODIFIED:20180215T164901Z
UID:10003102-1520445600-1520452800@parentingtogetherwc.org
SUMMARY:Nutrienda la esperanza - Nurturing Hope
DESCRIPTION:A FREE 12-Week Nurturing Parenting Series for parents of children with additional health barriers  
URL:https://parentingtogetherwc.org/event/nurturing-hope/
LOCATION:Tuality Health Education Center\, 334 SE 8th Ave\, Hillsboro\, OR\, 97123\, United States
CATEGORIES:Family-Friendly,Kid Friendly,Parenting Classes
ATTACH;FMTTYPE=image/jpeg:https://parentingtogetherwc.org/wp-content/uploads/2018/02/NH-Spring-2018-color-JPG.jpg
ORGANIZER;CN="Youth Contact/Vicki Ball":MAILTO:vball@youthcontact.org
GEO:45.5195868;-122.9765017
X-APPLE-STRUCTURED-LOCATION;VALUE=URI;X-ADDRESS=Tuality Health Education Center 334 SE 8th Ave Hillsboro OR 97123 United States;X-APPLE-RADIUS=500;X-TITLE=334 SE 8th Ave:geo:-122.9765017,45.5195868
END:VEVENT
BEGIN:VEVENT
DTSTART;TZID=America/Los_Angeles:20170920T180000
DTEND;TZID=America/Los_Angeles:20170920T200000
DTSTAMP:20260422T234859
CREATED:20170823T165702Z
LAST-MODIFIED:20170823T165702Z
UID:10002805-1505930400-1505937600@parentingtogetherwc.org
SUMMARY:The ABCs of Parenting
DESCRIPTION:A Nurturing Hope series for parents and children with additional needs or health challenges\, ages 5 – 8. Series continue for 12 weeks each Wednesday\, with the exception of the Wednesday before Thanksgiving \nSome older children may be able to join based on a case by case determination
URL:https://parentingtogetherwc.org/event/the-abcs-of-parenting/2017-09-20/
LOCATION:Tuality Health Education Center\, 334 SE 8th Ave\, Hillsboro\, OR\, 97123\, United States
CATEGORIES:Parenting Classes
ATTACH;FMTTYPE=image/jpeg:https://parentingtogetherwc.org/wp-content/uploads/2017/08/NH-Sept.jpg
ORGANIZER;CN="Youth Contact/Vicki Ball":MAILTO:vball@youthcontact.org
GEO:45.5195868;-122.9765017
X-APPLE-STRUCTURED-LOCATION;VALUE=URI;X-ADDRESS=Tuality Health Education Center 334 SE 8th Ave Hillsboro OR 97123 United States;X-APPLE-RADIUS=500;X-TITLE=334 SE 8th Ave:geo:-122.9765017,45.5195868
END:VEVENT
BEGIN:VEVENT
DTSTART;TZID=America/Los_Angeles:20170614T183000
DTEND;TZID=America/Los_Angeles:20170614T203000
DTSTAMP:20260422T234859
CREATED:20170606T213349Z
LAST-MODIFIED:20170803T201946Z
UID:10002582-1497465000-1497472200@parentingtogetherwc.org
SUMMARY:Positive Discipline Workshop (Spanish)
DESCRIPTION:
URL:https://parentingtogetherwc.org/event/positive-discipline-workshop-spanish/
LOCATION:Tuality Health Education Center\, 334 SE 8th Ave\, Hillsboro\, OR\, 97123\, United States
CATEGORIES:Adult Workshop,Parenting Classes
ORGANIZER;CN="Youth Contact/Vicki Ball":MAILTO:vball@youthcontact.org
GEO:45.5195868;-122.9765017
X-APPLE-STRUCTURED-LOCATION;VALUE=URI;X-ADDRESS=Tuality Health Education Center 334 SE 8th Ave Hillsboro OR 97123 United States;X-APPLE-RADIUS=500;X-TITLE=334 SE 8th Ave:geo:-122.9765017,45.5195868
END:VEVENT
END:VCALENDAR