
BEGIN:VCALENDAR
VERSION:2.0
PRODID:-//Parenting Together Washington County - ECPv6.15.16.1//NONSGML v1.0//EN
CALSCALE:GREGORIAN
METHOD:PUBLISH
X-ORIGINAL-URL:https://parentingtogetherwc.org
X-WR-CALDESC:Events for Parenting Together Washington County
REFRESH-INTERVAL;VALUE=DURATION:PT1H
X-Robots-Tag:noindex
X-PUBLISHED-TTL:PT1H
BEGIN:VTIMEZONE
TZID:America/Los_Angeles
BEGIN:DAYLIGHT
TZOFFSETFROM:-0800
TZOFFSETTO:-0700
TZNAME:PDT
DTSTART:20180311T100000
END:DAYLIGHT
BEGIN:STANDARD
TZOFFSETFROM:-0700
TZOFFSETTO:-0800
TZNAME:PST
DTSTART:20181104T090000
END:STANDARD
BEGIN:DAYLIGHT
TZOFFSETFROM:-0800
TZOFFSETTO:-0700
TZNAME:PDT
DTSTART:20190310T100000
END:DAYLIGHT
BEGIN:STANDARD
TZOFFSETFROM:-0700
TZOFFSETTO:-0800
TZNAME:PST
DTSTART:20191103T090000
END:STANDARD
BEGIN:DAYLIGHT
TZOFFSETFROM:-0800
TZOFFSETTO:-0700
TZNAME:PDT
DTSTART:20200308T100000
END:DAYLIGHT
BEGIN:STANDARD
TZOFFSETFROM:-0700
TZOFFSETTO:-0800
TZNAME:PST
DTSTART:20201101T090000
END:STANDARD
BEGIN:DAYLIGHT
TZOFFSETFROM:-0800
TZOFFSETTO:-0700
TZNAME:PDT
DTSTART:20210314T100000
END:DAYLIGHT
BEGIN:STANDARD
TZOFFSETFROM:-0700
TZOFFSETTO:-0800
TZNAME:PST
DTSTART:20211107T090000
END:STANDARD
BEGIN:DAYLIGHT
TZOFFSETFROM:-0800
TZOFFSETTO:-0700
TZNAME:PDT
DTSTART:20220313T100000
END:DAYLIGHT
BEGIN:STANDARD
TZOFFSETFROM:-0700
TZOFFSETTO:-0800
TZNAME:PST
DTSTART:20221106T090000
END:STANDARD
BEGIN:DAYLIGHT
TZOFFSETFROM:-0800
TZOFFSETTO:-0700
TZNAME:PDT
DTSTART:20230312T100000
END:DAYLIGHT
BEGIN:STANDARD
TZOFFSETFROM:-0700
TZOFFSETTO:-0800
TZNAME:PST
DTSTART:20231105T090000
END:STANDARD
BEGIN:DAYLIGHT
TZOFFSETFROM:-0800
TZOFFSETTO:-0700
TZNAME:PDT
DTSTART:20240310T100000
END:DAYLIGHT
BEGIN:STANDARD
TZOFFSETFROM:-0700
TZOFFSETTO:-0800
TZNAME:PST
DTSTART:20241103T090000
END:STANDARD
END:VTIMEZONE
BEGIN:VEVENT
DTSTART;TZID=America/Los_Angeles:20230128T110000
DTEND;TZID=America/Los_Angeles:20230128T150000
DTSTAMP:20260422T214422
CREATED:20230112T174122Z
LAST-MODIFIED:20230112T174122Z
UID:10004760-1674903600-1674918000@parentingtogetherwc.org
SUMMARY:Refugee and Immigrant Resource Fair and New Year Celebration
DESCRIPTION:English - Resource fair flyer\nArabic - Resource Fair Flyer\nDari-Resource Fair Flyer\nPashto - Resource Fair Flyer\nUkrainian- Resource Fair Flyer\nRussian - Resource Fair Flyer
URL:https://parentingtogetherwc.org/event/refugee-and-immigrant-resource-fair-and-new-year-celebration/
LOCATION:Village Church\, 330 SW Murray Blvd.\, Portland\, OR\, 97005
CATEGORIES:Family Resource Event,Family-Friendly
END:VEVENT
BEGIN:VEVENT
DTSTART;TZID=America/Los_Angeles:20191025T173000
DTEND;TZID=America/Los_Angeles:20191025T193000
DTSTAMP:20260422T214422
CREATED:20190916T233018Z
LAST-MODIFIED:20190916T234119Z
UID:10004275-1572024600-1572031800@parentingtogetherwc.org
SUMMARY:Community Conversations with guest john a. powell
DESCRIPTION:Community Conversations john a powell
URL:https://parentingtogetherwc.org/event/community-conversations-othering-belonging/
LOCATION:Village Church\, 330 SW Murray Blvd.\, Portland\, OR\, 97005
CATEGORIES:Adult Workshop
END:VEVENT
BEGIN:VEVENT
DTSTART;TZID=America/Los_Angeles:20191019T090000
DTEND;TZID=America/Los_Angeles:20191019T150000
DTSTAMP:20260422T214422
CREATED:20190828T223215Z
LAST-MODIFIED:20190828T223215Z
UID:10004237-1571475600-1571497200@parentingtogetherwc.org
SUMMARY:Citizenship Day - Get Free Help with your Application (Appointment Required)
DESCRIPTION:Citz Day Fall 2019 Flyer
URL:https://parentingtogetherwc.org/event/citizenship-day-get-free-help-with-your-application-appointment-required/
LOCATION:Village Church\, 330 SW Murray Blvd.\, Portland\, OR\, 97005
CATEGORIES:Adult Workshop
ORGANIZER;CN="IRCO - Kerri":MAILTO:kerrim@irco.org
END:VEVENT
BEGIN:VEVENT
DTSTART;TZID=America/Los_Angeles:20190126T133000
DTEND;TZID=America/Los_Angeles:20190126T153000
DTSTAMP:20260422T214423
CREATED:20190110T010222Z
LAST-MODIFIED:20190110T010222Z
UID:10003106-1548509400-1548516600@parentingtogetherwc.org
SUMMARY:عاية الابوة والامومة معا
DESCRIPTION:IRCO PTWC Recruitment Flyer FINAL ARABIC2018-2019\nIRCO PTWC Arabic Workshop Flyer 2019 English
URL:https://parentingtogetherwc.org/event/%d8%b9%d8%a7%d9%8a%d8%a9-%d8%a7%d9%84%d8%a7%d8%a8%d9%88%d8%a9-%d9%88%d8%a7%d9%84%d8%a7%d9%85%d9%88%d9%85%d8%a9-%d9%85%d8%b9%d8%a7/
LOCATION:Village Church\, 330 SW Murray Blvd.\, Portland\, OR\, 97005
END:VEVENT
END:VCALENDAR