
BEGIN:VCALENDAR
VERSION:2.0
PRODID:-//Parenting Together Washington County - ECPv6.15.16.1//NONSGML v1.0//EN
CALSCALE:GREGORIAN
METHOD:PUBLISH
X-ORIGINAL-URL:https://parentingtogetherwc.org
X-WR-CALDESC:Events for Parenting Together Washington County
REFRESH-INTERVAL;VALUE=DURATION:PT1H
X-Robots-Tag:noindex
X-PUBLISHED-TTL:PT1H
BEGIN:VTIMEZONE
TZID:America/Los_Angeles
BEGIN:DAYLIGHT
TZOFFSETFROM:-0800
TZOFFSETTO:-0700
TZNAME:PDT
DTSTART:20180311T100000
END:DAYLIGHT
BEGIN:STANDARD
TZOFFSETFROM:-0700
TZOFFSETTO:-0800
TZNAME:PST
DTSTART:20181104T090000
END:STANDARD
BEGIN:DAYLIGHT
TZOFFSETFROM:-0800
TZOFFSETTO:-0700
TZNAME:PDT
DTSTART:20190310T100000
END:DAYLIGHT
BEGIN:STANDARD
TZOFFSETFROM:-0700
TZOFFSETTO:-0800
TZNAME:PST
DTSTART:20191103T090000
END:STANDARD
BEGIN:DAYLIGHT
TZOFFSETFROM:-0800
TZOFFSETTO:-0700
TZNAME:PDT
DTSTART:20200308T100000
END:DAYLIGHT
BEGIN:STANDARD
TZOFFSETFROM:-0700
TZOFFSETTO:-0800
TZNAME:PST
DTSTART:20201101T090000
END:STANDARD
END:VTIMEZONE
BEGIN:VEVENT
DTSTART;TZID=America/Los_Angeles:20190220T103000
DTEND;TZID=America/Los_Angeles:20190220T123000
DTSTAMP:20260423T034629
CREATED:20181221T200029Z
LAST-MODIFIED:20190110T003325Z
UID:10003558-1550658600-1550665800@parentingtogetherwc.org
SUMMARY:Haga de la Paternidad un Placer
DESCRIPTION:El programa Padres Con Iniciativa los invita a tomar un curso con herramientas para comprender el desarrollo infantil\, disciplina positiva\, nutrición y autoestima. \nHaga de la Paternidad un Placer_CWC\n  \n 
URL:https://parentingtogetherwc.org/event/haga-de-la-paternidad-un-placer-3/2019-02-20/
LOCATION:Virginia Garcia Clínica Dental Cornelius\, 44 N. 11th Ave.\, Cornelius\, 97113
CATEGORIES:Parenting Classes
ORGANIZER;CN="Virginia Garcia/Veronica Garcia":MAILTO:vgarcia2@vgmhc.org
END:VEVENT
BEGIN:VEVENT
DTSTART;TZID=America/Los_Angeles:20190213T103000
DTEND;TZID=America/Los_Angeles:20190213T123000
DTSTAMP:20260423T034629
CREATED:20181221T200029Z
LAST-MODIFIED:20190110T003325Z
UID:10003557-1550053800-1550061000@parentingtogetherwc.org
SUMMARY:Haga de la Paternidad un Placer
DESCRIPTION:El programa Padres Con Iniciativa los invita a tomar un curso con herramientas para comprender el desarrollo infantil\, disciplina positiva\, nutrición y autoestima. \nHaga de la Paternidad un Placer_CWC\n  \n 
URL:https://parentingtogetherwc.org/event/haga-de-la-paternidad-un-placer-3/2019-02-13/
LOCATION:Virginia Garcia Clínica Dental Cornelius\, 44 N. 11th Ave.\, Cornelius\, 97113
CATEGORIES:Parenting Classes
ORGANIZER;CN="Virginia Garcia/Veronica Garcia":MAILTO:vgarcia2@vgmhc.org
END:VEVENT
BEGIN:VEVENT
DTSTART;TZID=America/Los_Angeles:20190206T103000
DTEND;TZID=America/Los_Angeles:20190206T123000
DTSTAMP:20260423T034629
CREATED:20181221T200029Z
LAST-MODIFIED:20190110T003325Z
UID:10003556-1549449000-1549456200@parentingtogetherwc.org
SUMMARY:Haga de la Paternidad un Placer
DESCRIPTION:El programa Padres Con Iniciativa los invita a tomar un curso con herramientas para comprender el desarrollo infantil\, disciplina positiva\, nutrición y autoestima. \nHaga de la Paternidad un Placer_CWC\n  \n 
URL:https://parentingtogetherwc.org/event/haga-de-la-paternidad-un-placer-3/2019-02-06/
LOCATION:Virginia Garcia Clínica Dental Cornelius\, 44 N. 11th Ave.\, Cornelius\, 97113
CATEGORIES:Parenting Classes
ORGANIZER;CN="Virginia Garcia/Veronica Garcia":MAILTO:vgarcia2@vgmhc.org
END:VEVENT
END:VCALENDAR