
BEGIN:VCALENDAR
VERSION:2.0
PRODID:-//Parenting Together Washington County - ECPv6.15.16.1//NONSGML v1.0//EN
CALSCALE:GREGORIAN
METHOD:PUBLISH
X-WR-CALNAME:Parenting Together Washington County
X-ORIGINAL-URL:https://parentingtogetherwc.org
X-WR-CALDESC:Events for Parenting Together Washington County
REFRESH-INTERVAL;VALUE=DURATION:PT1H
X-Robots-Tag:noindex
X-PUBLISHED-TTL:PT1H
BEGIN:VTIMEZONE
TZID:America/Los_Angeles
BEGIN:DAYLIGHT
TZOFFSETFROM:-0800
TZOFFSETTO:-0700
TZNAME:PDT
DTSTART:20230312T100000
END:DAYLIGHT
BEGIN:STANDARD
TZOFFSETFROM:-0700
TZOFFSETTO:-0800
TZNAME:PST
DTSTART:20231105T090000
END:STANDARD
BEGIN:DAYLIGHT
TZOFFSETFROM:-0800
TZOFFSETTO:-0700
TZNAME:PDT
DTSTART:20240310T100000
END:DAYLIGHT
BEGIN:STANDARD
TZOFFSETFROM:-0700
TZOFFSETTO:-0800
TZNAME:PST
DTSTART:20241103T090000
END:STANDARD
BEGIN:DAYLIGHT
TZOFFSETFROM:-0800
TZOFFSETTO:-0700
TZNAME:PDT
DTSTART:20250309T100000
END:DAYLIGHT
BEGIN:STANDARD
TZOFFSETFROM:-0700
TZOFFSETTO:-0800
TZNAME:PST
DTSTART:20251102T090000
END:STANDARD
END:VTIMEZONE
BEGIN:VEVENT
DTSTART;TZID=America/Los_Angeles:20240722T080000
DTEND;TZID=America/Los_Angeles:20240722T170000
DTSTAMP:20260423T074208
CREATED:20240701T194925Z
LAST-MODIFIED:20240701T194925Z
UID:10005164-1721635200-1721667600@parentingtogetherwc.org
SUMMARY:Summer Virtual Goal Setting Program for Children\, Youth and Parents-Caregivers K - 12
DESCRIPTION:SummerGS_Shadow Project Flyer_2024
URL:https://parentingtogetherwc.org/event/summer-virtual-goal-setting-program-for-children-youth-and-parents-caregivers-k-12/
LOCATION:Virtual Parenting and Youth Parenting Series
CATEGORIES:Virtual Parent-Caregiver and Youth Support Series
ORGANIZER;CN="The Shadow Peoject":MAILTO:familysupport@shadow-project.org.
END:VEVENT
BEGIN:VEVENT
DTSTART;TZID=America/Los_Angeles:20240131T183000
DTEND;TZID=America/Los_Angeles:20240131T203000
DTSTAMP:20260423T074208
CREATED:20231130T224445Z
LAST-MODIFIED:20231130T224445Z
UID:10004875-1706725800-1706733000@parentingtogetherwc.org
SUMMARY:Familias Fuertes una serie de aprendizaje\, conexión y apoyo para padres y jóvenes de 10 a 14 años
DESCRIPTION:LifeWorks NW Familias Fuertes Invierno 2024LifeWorks NW Strengthening Families Winter 2024
URL:https://parentingtogetherwc.org/event/familias-fuertes-una-serie-de-aprendizaje-conexion-y-apoyo-para-padres-y-jovenes-de-10-a-14-anos/
LOCATION:Virtual Parenting and Youth Parenting Series
CATEGORIES:Parenting and Youth Series
ORGANIZER;CN="LifeWorks NW/Kelsey Gibbs":MAILTO:kelsey.gibbs@lifeworksnw.org
END:VEVENT
BEGIN:VEVENT
DTSTART;TZID=America/Los_Angeles:20240131T183000
DTEND;TZID=America/Los_Angeles:20240131T203000
DTSTAMP:20260423T074209
CREATED:20231130T224106Z
LAST-MODIFIED:20231130T224541Z
UID:10004874-1706725800-1706733000@parentingtogetherwc.org
SUMMARY:Strengthening Families Learning\, Connection and Support Series for parents/caregivers and with youth ages 10-14
DESCRIPTION:LifeWorks NW Strengthening Families Winter 2024\nLifeWorks NW Familias Fuertes Invierno 2024
URL:https://parentingtogetherwc.org/event/strengthening-families-learning-connection-and-support-series-for-parents-caregivers-and-with-youth-ages-10-14/
LOCATION:Virtual Parenting and Youth Parenting Series
CATEGORIES:Parenting and Youth Series
ORGANIZER;CN="LifeWorks NW/Kelsey Gibbs":MAILTO:kelsey.gibbs@lifeworksnw.org
END:VEVENT
END:VCALENDAR