
BEGIN:VCALENDAR
VERSION:2.0
PRODID:-//Parenting Together Washington County - ECPv6.15.16.1//NONSGML v1.0//EN
CALSCALE:GREGORIAN
METHOD:PUBLISH
X-WR-CALNAME:Parenting Together Washington County
X-ORIGINAL-URL:https://parentingtogetherwc.org
X-WR-CALDESC:Events for Parenting Together Washington County
REFRESH-INTERVAL;VALUE=DURATION:PT1H
X-Robots-Tag:noindex
X-PUBLISHED-TTL:PT1H
BEGIN:VTIMEZONE
TZID:America/Los_Angeles
BEGIN:DAYLIGHT
TZOFFSETFROM:-0800
TZOFFSETTO:-0700
TZNAME:PDT
DTSTART:20190310T100000
END:DAYLIGHT
BEGIN:STANDARD
TZOFFSETFROM:-0700
TZOFFSETTO:-0800
TZNAME:PST
DTSTART:20191103T090000
END:STANDARD
BEGIN:DAYLIGHT
TZOFFSETFROM:-0800
TZOFFSETTO:-0700
TZNAME:PDT
DTSTART:20200308T100000
END:DAYLIGHT
BEGIN:STANDARD
TZOFFSETFROM:-0700
TZOFFSETTO:-0800
TZNAME:PST
DTSTART:20201101T090000
END:STANDARD
BEGIN:DAYLIGHT
TZOFFSETFROM:-0800
TZOFFSETTO:-0700
TZNAME:PDT
DTSTART:20210314T100000
END:DAYLIGHT
BEGIN:STANDARD
TZOFFSETFROM:-0700
TZOFFSETTO:-0800
TZNAME:PST
DTSTART:20211107T090000
END:STANDARD
BEGIN:DAYLIGHT
TZOFFSETFROM:-0800
TZOFFSETTO:-0700
TZNAME:PDT
DTSTART:20220313T100000
END:DAYLIGHT
BEGIN:STANDARD
TZOFFSETFROM:-0700
TZOFFSETTO:-0800
TZNAME:PST
DTSTART:20221106T090000
END:STANDARD
BEGIN:DAYLIGHT
TZOFFSETFROM:-0800
TZOFFSETTO:-0700
TZNAME:PDT
DTSTART:20230312T100000
END:DAYLIGHT
BEGIN:STANDARD
TZOFFSETFROM:-0700
TZOFFSETTO:-0800
TZNAME:PST
DTSTART:20231105T090000
END:STANDARD
BEGIN:DAYLIGHT
TZOFFSETFROM:-0800
TZOFFSETTO:-0700
TZNAME:PDT
DTSTART:20240310T100000
END:DAYLIGHT
BEGIN:STANDARD
TZOFFSETFROM:-0700
TZOFFSETTO:-0800
TZNAME:PST
DTSTART:20241103T090000
END:STANDARD
BEGIN:DAYLIGHT
TZOFFSETFROM:-0800
TZOFFSETTO:-0700
TZNAME:PDT
DTSTART:20250309T100000
END:DAYLIGHT
BEGIN:STANDARD
TZOFFSETFROM:-0700
TZOFFSETTO:-0800
TZNAME:PST
DTSTART:20251102T090000
END:STANDARD
END:VTIMEZONE
BEGIN:VEVENT
DTSTART;TZID=America/Los_Angeles:20240501T180000
DTEND;TZID=America/Los_Angeles:20240501T190000
DTSTAMP:20260423T101346
CREATED:20240416T000913Z
LAST-MODIFIED:20240419T172731Z
UID:10005149-1714586400-1714590000@parentingtogetherwc.org
SUMMARY:Parent and Caregiver Workshop - What is Sextortion and How do I Protect My Teens
DESCRIPTION:WCK PSS1 Flyer - Sextortion 5-1-24\nSPANISH WCK PSS1 Flyer - Sextortion 5-1-24SEXTORTION – THE DANGER YOU NEED TO KNOW \nMay 1\, 6pm-7pm | Zoom\nGuest Speaker from the FBI Portland Division \nThe FBI has seen a 20% increase in reports of financially motivated sextortion incidents targeting minors during a six-month period that ended in March 2023\, compared to the previous year. \nFinancially motivated sextortion is the latest iteration of sextortion. Offenders deceive and manipulate victims to create sexually explicit material for extortion purposes. Minors and young adults caught in this trap often feel isolated\, embarrassed\, and cornered with seemingly no way out. In some cases\, victims have turned to self-harm and even suicide. \nOur goal is to help parents\, caregivers\, and young adults fully understand the dangers of financially motivated sextortion and to know there are options for those who need help.  \n 
URL:https://parentingtogetherwc.org/event/free-parent-and-caregiver-workshop-series-what-is-sextortion-and-how-do-i-protect/
LOCATION:Virtual Parenting Webinar
CATEGORIES:Adult Workshop,Virtual Workshop
ORGANIZER;CN="Washington County Kids":MAILTO:info@washingtoncountykids.org
END:VEVENT
BEGIN:VEVENT
DTSTART;TZID=America/Los_Angeles:20210427T180000
DTEND;TZID=America/Los_Angeles:20210427T190000
DTSTAMP:20260423T101346
CREATED:20210309T174227Z
LAST-MODIFIED:20210309T174227Z
UID:10004558-1619546400-1619550000@parentingtogetherwc.org
SUMMARY:Weekly Parenting Support Webinars - Variety of Topics
DESCRIPTION:Parent Speaker Series Flyer with link
URL:https://parentingtogetherwc.org/event/weekly-parenting-support-webinars-variety-of-topics/2021-04-27/
LOCATION:Virtual Parenting Webinar
CATEGORIES:Parenting Workshop,Virtual Workshop
ORGANIZER;CN="Washington County Kids":MAILTO:info@washingtoncountykids.org
END:VEVENT
BEGIN:VEVENT
DTSTART;TZID=America/Los_Angeles:20210420T180000
DTEND;TZID=America/Los_Angeles:20210420T190000
DTSTAMP:20260423T101346
CREATED:20210309T174227Z
LAST-MODIFIED:20210309T174227Z
UID:10004557-1618941600-1618945200@parentingtogetherwc.org
SUMMARY:Weekly Parenting Support Webinars - Variety of Topics
DESCRIPTION:Parent Speaker Series Flyer with link
URL:https://parentingtogetherwc.org/event/weekly-parenting-support-webinars-variety-of-topics/2021-04-20/
LOCATION:Virtual Parenting Webinar
CATEGORIES:Parenting Workshop,Virtual Workshop
ORGANIZER;CN="Washington County Kids":MAILTO:info@washingtoncountykids.org
END:VEVENT
BEGIN:VEVENT
DTSTART;TZID=America/Los_Angeles:20210413T180000
DTEND;TZID=America/Los_Angeles:20210413T190000
DTSTAMP:20260423T101346
CREATED:20210309T174227Z
LAST-MODIFIED:20210309T174227Z
UID:10004556-1618336800-1618340400@parentingtogetherwc.org
SUMMARY:Weekly Parenting Support Webinars - Variety of Topics
DESCRIPTION:Parent Speaker Series Flyer with link
URL:https://parentingtogetherwc.org/event/weekly-parenting-support-webinars-variety-of-topics/2021-04-13/
LOCATION:Virtual Parenting Webinar
CATEGORIES:Parenting Workshop,Virtual Workshop
ORGANIZER;CN="Washington County Kids":MAILTO:info@washingtoncountykids.org
END:VEVENT
BEGIN:VEVENT
DTSTART;TZID=America/Los_Angeles:20210406T180000
DTEND;TZID=America/Los_Angeles:20210406T190000
DTSTAMP:20260423T101346
CREATED:20210309T174227Z
LAST-MODIFIED:20210309T174227Z
UID:10004555-1617732000-1617735600@parentingtogetherwc.org
SUMMARY:Weekly Parenting Support Webinars - Variety of Topics
DESCRIPTION:Parent Speaker Series Flyer with link
URL:https://parentingtogetherwc.org/event/weekly-parenting-support-webinars-variety-of-topics/2021-04-06/
LOCATION:Virtual Parenting Webinar
CATEGORIES:Parenting Workshop,Virtual Workshop
ORGANIZER;CN="Washington County Kids":MAILTO:info@washingtoncountykids.org
END:VEVENT
BEGIN:VEVENT
DTSTART;TZID=America/Los_Angeles:20210330T180000
DTEND;TZID=America/Los_Angeles:20210330T190000
DTSTAMP:20260423T101346
CREATED:20210309T174227Z
LAST-MODIFIED:20210309T174227Z
UID:10004554-1617127200-1617130800@parentingtogetherwc.org
SUMMARY:Weekly Parenting Support Webinars - Variety of Topics
DESCRIPTION:Parent Speaker Series Flyer with link
URL:https://parentingtogetherwc.org/event/weekly-parenting-support-webinars-variety-of-topics/2021-03-30/
LOCATION:Virtual Parenting Webinar
CATEGORIES:Parenting Workshop,Virtual Workshop
ORGANIZER;CN="Washington County Kids":MAILTO:info@washingtoncountykids.org
END:VEVENT
BEGIN:VEVENT
DTSTART;TZID=America/Los_Angeles:20200903T180000
DTEND;TZID=America/Los_Angeles:20200903T190000
DTSTAMP:20260423T101346
CREATED:20200828T193236Z
LAST-MODIFIED:20200828T193236Z
UID:10004513-1599156000-1599159600@parentingtogetherwc.org
SUMMARY:Tips & Tools for Back to School Virtual Workshop
DESCRIPTION:Back to School Parenting Support Virtual Workshop
URL:https://parentingtogetherwc.org/event/tips-tools-for-back-to-school-virtual-workshop/
LOCATION:Virtual Parenting Webinar
CATEGORIES:Virtual Workshop
END:VEVENT
BEGIN:VEVENT
DTSTART;TZID=America/Los_Angeles:20200826T180000
DTEND;TZID=America/Los_Angeles:20200826T191500
DTSTAMP:20260423T101346
CREATED:20200813T190159Z
LAST-MODIFIED:20200813T190159Z
UID:10004470-1598464800-1598469300@parentingtogetherwc.org
SUMMARY:Como puede ayudar a preparar su niño o niña al kindergarten
DESCRIPTION:OCDC Workshop short flyer span
URL:https://parentingtogetherwc.org/event/como-puede-ayudar-a-preparar-su-nino-o-nina-al-kindergarten/
LOCATION:Virtual Parenting Webinar
CATEGORIES:Virtual Workshop
END:VEVENT
BEGIN:VEVENT
DTSTART;TZID=America/Los_Angeles:20200819T180000
DTEND;TZID=America/Los_Angeles:20200819T191500
DTSTAMP:20260423T101346
CREATED:20200813T182031Z
LAST-MODIFIED:20200813T182031Z
UID:10004472-1597860000-1597864500@parentingtogetherwc.org
SUMMARY:Supporting Your Child's Distance Learning Virtual Workshop
DESCRIPTION:OCDC Workshop flyer eng
URL:https://parentingtogetherwc.org/event/supporting-your-childs-distance-learning-virtual-workshop/
LOCATION:Virtual Parenting Webinar
CATEGORIES:Virtual Workshop
END:VEVENT
BEGIN:VEVENT
DTSTART;TZID=America/Los_Angeles:20200819T060000
DTEND;TZID=America/Los_Angeles:20200819T191500
DTSTAMP:20260423T101347
CREATED:20200813T185810Z
LAST-MODIFIED:20200813T185810Z
UID:10004471-1597816800-1597864500@parentingtogetherwc.org
SUMMARY:Cómo apoyar a niños con educación distancia
DESCRIPTION:OCDC Workshop short flyer span
URL:https://parentingtogetherwc.org/event/como-apoyar-a-ninos-con-educacion-distancia/
LOCATION:Virtual Parenting Webinar
CATEGORIES:Virtual Workshop
END:VEVENT
BEGIN:VEVENT
DTSTART;TZID=America/Los_Angeles:20200813T190000
DTEND;TZID=America/Los_Angeles:20200813T203000
DTSTAMP:20260423T101347
CREATED:20200807T185345Z
LAST-MODIFIED:20200807T185345Z
UID:10004475-1597345200-1597350600@parentingtogetherwc.org
SUMMARY:Back on Track: The Parenting Reset You Need to Find This Fall’s New Normal
DESCRIPTION:Free Parenting Webinar 08.20
URL:https://parentingtogetherwc.org/event/back-on-track-the-parenting-reset-you-need-to-find-this-falls-new-normal-2/
LOCATION:Virtual Parenting Webinar
CATEGORIES:Virtual Workshop
END:VEVENT
BEGIN:VEVENT
DTSTART;TZID=America/Los_Angeles:20200812T170000
DTEND;TZID=America/Los_Angeles:20200812T183000
DTSTAMP:20260423T101347
CREATED:20200807T185017Z
LAST-MODIFIED:20200807T185017Z
UID:10004477-1597251600-1597257000@parentingtogetherwc.org
SUMMARY:Back on Track: The Parenting Reset You Need to Find This Fall's New Normal
DESCRIPTION:Free Parenting Webinar 08.20
URL:https://parentingtogetherwc.org/event/back-on-track-the-parenting-reset-you-need-to-find-this-falls-new-normal/
LOCATION:Virtual Parenting Webinar
END:VEVENT
END:VCALENDAR