
BEGIN:VCALENDAR
VERSION:2.0
PRODID:-//Parenting Together Washington County - ECPv6.15.16.1//NONSGML v1.0//EN
CALSCALE:GREGORIAN
METHOD:PUBLISH
X-ORIGINAL-URL:https://parentingtogetherwc.org
X-WR-CALDESC:Events for Parenting Together Washington County
REFRESH-INTERVAL;VALUE=DURATION:PT1H
X-Robots-Tag:noindex
X-PUBLISHED-TTL:PT1H
BEGIN:VTIMEZONE
TZID:America/Los_Angeles
BEGIN:DAYLIGHT
TZOFFSETFROM:-0800
TZOFFSETTO:-0700
TZNAME:PDT
DTSTART:20210314T100000
END:DAYLIGHT
BEGIN:STANDARD
TZOFFSETFROM:-0700
TZOFFSETTO:-0800
TZNAME:PST
DTSTART:20211107T090000
END:STANDARD
BEGIN:DAYLIGHT
TZOFFSETFROM:-0800
TZOFFSETTO:-0700
TZNAME:PDT
DTSTART:20220313T100000
END:DAYLIGHT
BEGIN:STANDARD
TZOFFSETFROM:-0700
TZOFFSETTO:-0800
TZNAME:PST
DTSTART:20221106T090000
END:STANDARD
BEGIN:DAYLIGHT
TZOFFSETFROM:-0800
TZOFFSETTO:-0700
TZNAME:PDT
DTSTART:20230312T100000
END:DAYLIGHT
BEGIN:STANDARD
TZOFFSETFROM:-0700
TZOFFSETTO:-0800
TZNAME:PST
DTSTART:20231105T090000
END:STANDARD
END:VTIMEZONE
BEGIN:VEVENT
DTSTART;TZID=America/Los_Angeles:20220817T183000
DTEND;TZID=America/Los_Angeles:20220817T200000
DTSTAMP:20260423T044350
CREATED:20220805T220802Z
LAST-MODIFIED:20220805T220802Z
UID:10004778-1660761000-1660766400@parentingtogetherwc.org
SUMMARY:Fall Care Fair/ Expo de cuidado - otoño 2022
DESCRIPTION:WCK Fall Care Fair 2022 flier Eng\nWCK Fall Care Fair 2022 flier Sp
URL:https://parentingtogetherwc.org/event/fall-care-fair-expo-de-cuidado-otono-2022/
LOCATION:Virtual Resource Fair\, OR\, United States
CATEGORIES:Virtual Resource Fair
ORGANIZER;CN="Washington County Kids":MAILTO:info@washingtoncountykids.org
END:VEVENT
BEGIN:VEVENT
DTSTART;TZID=America/Los_Angeles:20220504T180000
DTEND;TZID=America/Los_Angeles:20220504T200000
DTSTAMP:20260423T044350
CREATED:20220429T163410Z
LAST-MODIFIED:20220429T163410Z
UID:10004777-1651687200-1651694400@parentingtogetherwc.org
SUMMARY:Virtual Expo - Summer Care Fair
DESCRIPTION:Summer Care Fair 2022 flier Summer Care Fair SP
URL:https://parentingtogetherwc.org/event/virtual-expo-summer-care-fair/
LOCATION:Virtual Resource Fair\, OR\, United States
CATEGORIES:Virtual Resource Fair
ORGANIZER;CN="Washington County Kids":MAILTO:info@washingtoncountykids.org
END:VEVENT
END:VCALENDAR