
BEGIN:VCALENDAR
VERSION:2.0
PRODID:-//Parenting Together Washington County - ECPv6.15.16.1//NONSGML v1.0//EN
CALSCALE:GREGORIAN
METHOD:PUBLISH
X-WR-CALNAME:Parenting Together Washington County
X-ORIGINAL-URL:https://parentingtogetherwc.org
X-WR-CALDESC:Events for Parenting Together Washington County
REFRESH-INTERVAL;VALUE=DURATION:PT1H
X-Robots-Tag:noindex
X-PUBLISHED-TTL:PT1H
BEGIN:VTIMEZONE
TZID:America/Los_Angeles
BEGIN:DAYLIGHT
TZOFFSETFROM:-0800
TZOFFSETTO:-0700
TZNAME:PDT
DTSTART:20220313T100000
END:DAYLIGHT
BEGIN:STANDARD
TZOFFSETFROM:-0700
TZOFFSETTO:-0800
TZNAME:PST
DTSTART:20221106T090000
END:STANDARD
BEGIN:DAYLIGHT
TZOFFSETFROM:-0800
TZOFFSETTO:-0700
TZNAME:PDT
DTSTART:20230312T100000
END:DAYLIGHT
BEGIN:STANDARD
TZOFFSETFROM:-0700
TZOFFSETTO:-0800
TZNAME:PST
DTSTART:20231105T090000
END:STANDARD
BEGIN:DAYLIGHT
TZOFFSETFROM:-0800
TZOFFSETTO:-0700
TZNAME:PDT
DTSTART:20240310T100000
END:DAYLIGHT
BEGIN:STANDARD
TZOFFSETFROM:-0700
TZOFFSETTO:-0800
TZNAME:PST
DTSTART:20241103T090000
END:STANDARD
END:VTIMEZONE
BEGIN:VEVENT
DTSTART;TZID=America/Los_Angeles:20230206T120000
DTEND;TZID=America/Los_Angeles:20230206T153000
DTSTAMP:20260423T105722
CREATED:20221216T005957Z
LAST-MODIFIED:20221216T005957Z
UID:10004764-1675684800-1675697400@parentingtogetherwc.org
SUMMARY:PAX Tools Workshop - Tips and Tools for Bringing Peace to Parenting
DESCRIPTION:PAX Tools Flyer Feb 2023
URL:https://parentingtogetherwc.org/event/pax-tools-workshop-tips-and-tools-for-bringing-peace-to-parenting/
LOCATION:Washington County Elam Young Conference Room\, 5240 NE Elam Young Parkway\, Hillsboro\, 97124
CATEGORIES:Adult Workshop,Parenting Workshop
ORGANIZER;CN="Maternal Child and Family Program":MAILTO:Tabria_Harrod@washingtoncountyor.gov
END:VEVENT
END:VCALENDAR