
BEGIN:VCALENDAR
VERSION:2.0
PRODID:-//Parenting Together Washington County - ECPv6.15.16.1//NONSGML v1.0//EN
CALSCALE:GREGORIAN
METHOD:PUBLISH
X-ORIGINAL-URL:https://parentingtogetherwc.org
X-WR-CALDESC:Events for Parenting Together Washington County
REFRESH-INTERVAL;VALUE=DURATION:PT1H
X-Robots-Tag:noindex
X-PUBLISHED-TTL:PT1H
BEGIN:VTIMEZONE
TZID:America/Los_Angeles
BEGIN:DAYLIGHT
TZOFFSETFROM:-0800
TZOFFSETTO:-0700
TZNAME:PDT
DTSTART:20160313T100000
END:DAYLIGHT
BEGIN:STANDARD
TZOFFSETFROM:-0700
TZOFFSETTO:-0800
TZNAME:PST
DTSTART:20161106T090000
END:STANDARD
BEGIN:DAYLIGHT
TZOFFSETFROM:-0800
TZOFFSETTO:-0700
TZNAME:PDT
DTSTART:20170312T100000
END:DAYLIGHT
BEGIN:STANDARD
TZOFFSETFROM:-0700
TZOFFSETTO:-0800
TZNAME:PST
DTSTART:20171105T090000
END:STANDARD
BEGIN:DAYLIGHT
TZOFFSETFROM:-0800
TZOFFSETTO:-0700
TZNAME:PDT
DTSTART:20180311T100000
END:DAYLIGHT
BEGIN:STANDARD
TZOFFSETFROM:-0700
TZOFFSETTO:-0800
TZNAME:PST
DTSTART:20181104T090000
END:STANDARD
BEGIN:DAYLIGHT
TZOFFSETFROM:-0800
TZOFFSETTO:-0700
TZNAME:PDT
DTSTART:20190310T100000
END:DAYLIGHT
BEGIN:STANDARD
TZOFFSETFROM:-0700
TZOFFSETTO:-0800
TZNAME:PST
DTSTART:20191103T090000
END:STANDARD
END:VTIMEZONE
BEGIN:VEVENT
DTSTART;TZID=America/Los_Angeles:20180519T100000
DTEND;TZID=America/Los_Angeles:20180519T150000
DTSTAMP:20260422T172248
CREATED:20180321T204733Z
LAST-MODIFIED:20180321T204733Z
UID:10003153-1526724000-1526742000@parentingtogetherwc.org
SUMMARY:Tualatin River Bird Festival
DESCRIPTION:The Friends of the Refuge\, in conjunction with Tualatin River National Wildlife Refuge\, welcome you to our 22nd Annual Tualatin River Bird Festival. This is a FREE family-friendly event! \n\nJoin us for diverse family-friendly activities celebrating wildlife and wild places.  Here is a sample of activities offered in 2017. \n\n\n\nConestoga-style Wagon Rides around the Refuge perimeter from 10-3\n\n\nEarly morning Guided walks\n\n\n8 AM Guided Bird Walk with Elaine Murphy from Backyard Bird Shop\n\n\nPortland Audubon live bird show at Noon\n\n\nFish Migration Putt Putt Golf\n\n\nBB-gun range\n\n\nLamprey tank\n\n\nCrafts\n\n\nDecoy Duck Painting\n\n\nArchery Skill Building\n\n\nBackyard Fish Casting Clinic Station\n\n\nBuild a Bird House or Butterfly House\n\n\nConservation exhibits\n\n\nInterpretive stations\n\nNature’s Overlook Store is OPEN\nFood Vendors accept credit and debit cards\n\n\nFor more information contact Bonnie Anderson Info@FriendsofTualatinRefuge.org \nThere is no on site parking. A shuttle bus will transport you in comfort from our offsite parking location right to the front door of the Refuge. Our bus is ADA accessible  with a lift.
URL:https://parentingtogetherwc.org/event/tualatin-river-bird-festival/
LOCATION:Tualatin River National Wildlife Refuge\, 19255 SW Pacific Highway\, Sherwood\, 97140\, United States
CATEGORIES:Family-Friendly,Kid Friendly
ORGANIZER;CN="Tualatin River National Wildlife Refuge":MAILTO:Rachel_Dunham@fws.gov
GEO:45.3779682;-122.8346934
X-APPLE-STRUCTURED-LOCATION;VALUE=URI;X-ADDRESS=Tualatin River National Wildlife Refuge 19255 SW Pacific Highway Sherwood 97140 United States;X-APPLE-RADIUS=500;X-TITLE=19255 SW Pacific Highway:geo:-122.8346934,45.3779682
END:VEVENT
BEGIN:VEVENT
DTSTART;TZID=America/Los_Angeles:20180330T100000
DTEND;TZID=America/Los_Angeles:20180330T130000
DTSTAMP:20260422T172248
CREATED:20180321T204633Z
LAST-MODIFIED:20180321T204633Z
UID:10003183-1522404000-1522414800@parentingtogetherwc.org
SUMMARY:Spring Break Exploration Days
DESCRIPTION:As spring emerges from the dark days of winter and students emerge from the classroom\, we invite your whole family to discover the amazing wildlife at Tualatin River National Wildlife Refuge during Spring Break Exploration Days. This weekday event features hands-on nature activities and crafts for kids of all ages. \nEach day offers a different theme\, so feel free to drop in as much as you’d like\, and don’t let spring showers deter you\, activities will start in the classroom; we’ll be here rain or shine.\n \nCost: Spring Break Exploration Days is a FREE event! \nRegistration: No registration is required \nQuestions: Contact Education Coordinator\, Seth Winkelhake\, at Seth_Winkelhake@friendsoftualatinrefuge.org or (503) 625-5944
URL:https://parentingtogetherwc.org/event/spring-break-exploration-days/2018-03-30/
LOCATION:Tualatin River National Wildlife Refuge\, 19255 SW Pacific Highway\, Sherwood\, 97140\, United States
CATEGORIES:Family-Friendly,Kid Friendly
ATTACH;FMTTYPE=image/jpeg:https://parentingtogetherwc.org/wp-content/uploads/2018/03/DSC00414.jpg
ORGANIZER;CN="Tualatin River National Wildlife Refuge":MAILTO:Rachel_Dunham@fws.gov
GEO:45.3779682;-122.8346934
X-APPLE-STRUCTURED-LOCATION;VALUE=URI;X-ADDRESS=Tualatin River National Wildlife Refuge 19255 SW Pacific Highway Sherwood 97140 United States;X-APPLE-RADIUS=500;X-TITLE=19255 SW Pacific Highway:geo:-122.8346934,45.3779682
END:VEVENT
BEGIN:VEVENT
DTSTART;TZID=America/Los_Angeles:20180329T100000
DTEND;TZID=America/Los_Angeles:20180329T130000
DTSTAMP:20260422T172248
CREATED:20180321T204633Z
LAST-MODIFIED:20180321T204633Z
UID:10003182-1522317600-1522328400@parentingtogetherwc.org
SUMMARY:Spring Break Exploration Days
DESCRIPTION:As spring emerges from the dark days of winter and students emerge from the classroom\, we invite your whole family to discover the amazing wildlife at Tualatin River National Wildlife Refuge during Spring Break Exploration Days. This weekday event features hands-on nature activities and crafts for kids of all ages. \nEach day offers a different theme\, so feel free to drop in as much as you’d like\, and don’t let spring showers deter you\, activities will start in the classroom; we’ll be here rain or shine.\n \nCost: Spring Break Exploration Days is a FREE event! \nRegistration: No registration is required \nQuestions: Contact Education Coordinator\, Seth Winkelhake\, at Seth_Winkelhake@friendsoftualatinrefuge.org or (503) 625-5944
URL:https://parentingtogetherwc.org/event/spring-break-exploration-days/2018-03-29/
LOCATION:Tualatin River National Wildlife Refuge\, 19255 SW Pacific Highway\, Sherwood\, 97140\, United States
CATEGORIES:Family-Friendly,Kid Friendly
ATTACH;FMTTYPE=image/jpeg:https://parentingtogetherwc.org/wp-content/uploads/2018/03/DSC00414.jpg
ORGANIZER;CN="Tualatin River National Wildlife Refuge":MAILTO:Rachel_Dunham@fws.gov
GEO:45.3779682;-122.8346934
X-APPLE-STRUCTURED-LOCATION;VALUE=URI;X-ADDRESS=Tualatin River National Wildlife Refuge 19255 SW Pacific Highway Sherwood 97140 United States;X-APPLE-RADIUS=500;X-TITLE=19255 SW Pacific Highway:geo:-122.8346934,45.3779682
END:VEVENT
BEGIN:VEVENT
DTSTART;TZID=America/Los_Angeles:20180328T100000
DTEND;TZID=America/Los_Angeles:20180328T130000
DTSTAMP:20260422T172248
CREATED:20180321T204633Z
LAST-MODIFIED:20180321T204633Z
UID:10003181-1522231200-1522242000@parentingtogetherwc.org
SUMMARY:Spring Break Exploration Days
DESCRIPTION:As spring emerges from the dark days of winter and students emerge from the classroom\, we invite your whole family to discover the amazing wildlife at Tualatin River National Wildlife Refuge during Spring Break Exploration Days. This weekday event features hands-on nature activities and crafts for kids of all ages. \nEach day offers a different theme\, so feel free to drop in as much as you’d like\, and don’t let spring showers deter you\, activities will start in the classroom; we’ll be here rain or shine.\n \nCost: Spring Break Exploration Days is a FREE event! \nRegistration: No registration is required \nQuestions: Contact Education Coordinator\, Seth Winkelhake\, at Seth_Winkelhake@friendsoftualatinrefuge.org or (503) 625-5944
URL:https://parentingtogetherwc.org/event/spring-break-exploration-days/2018-03-28/
LOCATION:Tualatin River National Wildlife Refuge\, 19255 SW Pacific Highway\, Sherwood\, 97140\, United States
CATEGORIES:Family-Friendly,Kid Friendly
ATTACH;FMTTYPE=image/jpeg:https://parentingtogetherwc.org/wp-content/uploads/2018/03/DSC00414.jpg
ORGANIZER;CN="Tualatin River National Wildlife Refuge":MAILTO:Rachel_Dunham@fws.gov
GEO:45.3779682;-122.8346934
X-APPLE-STRUCTURED-LOCATION;VALUE=URI;X-ADDRESS=Tualatin River National Wildlife Refuge 19255 SW Pacific Highway Sherwood 97140 United States;X-APPLE-RADIUS=500;X-TITLE=19255 SW Pacific Highway:geo:-122.8346934,45.3779682
END:VEVENT
BEGIN:VEVENT
DTSTART;TZID=America/Los_Angeles:20180327T100000
DTEND;TZID=America/Los_Angeles:20180327T130000
DTSTAMP:20260422T172248
CREATED:20180321T204633Z
LAST-MODIFIED:20180321T204633Z
UID:10003180-1522144800-1522155600@parentingtogetherwc.org
SUMMARY:Spring Break Exploration Days
DESCRIPTION:As spring emerges from the dark days of winter and students emerge from the classroom\, we invite your whole family to discover the amazing wildlife at Tualatin River National Wildlife Refuge during Spring Break Exploration Days. This weekday event features hands-on nature activities and crafts for kids of all ages. \nEach day offers a different theme\, so feel free to drop in as much as you’d like\, and don’t let spring showers deter you\, activities will start in the classroom; we’ll be here rain or shine.\n \nCost: Spring Break Exploration Days is a FREE event! \nRegistration: No registration is required \nQuestions: Contact Education Coordinator\, Seth Winkelhake\, at Seth_Winkelhake@friendsoftualatinrefuge.org or (503) 625-5944
URL:https://parentingtogetherwc.org/event/spring-break-exploration-days/2018-03-27/
LOCATION:Tualatin River National Wildlife Refuge\, 19255 SW Pacific Highway\, Sherwood\, 97140\, United States
CATEGORIES:Family-Friendly,Kid Friendly
ATTACH;FMTTYPE=image/jpeg:https://parentingtogetherwc.org/wp-content/uploads/2018/03/DSC00414.jpg
ORGANIZER;CN="Tualatin River National Wildlife Refuge":MAILTO:Rachel_Dunham@fws.gov
GEO:45.3779682;-122.8346934
X-APPLE-STRUCTURED-LOCATION;VALUE=URI;X-ADDRESS=Tualatin River National Wildlife Refuge 19255 SW Pacific Highway Sherwood 97140 United States;X-APPLE-RADIUS=500;X-TITLE=19255 SW Pacific Highway:geo:-122.8346934,45.3779682
END:VEVENT
BEGIN:VEVENT
DTSTART;TZID=America/Los_Angeles:20180326T100000
DTEND;TZID=America/Los_Angeles:20180326T130000
DTSTAMP:20260422T172248
CREATED:20180321T204633Z
LAST-MODIFIED:20180321T204633Z
UID:10003179-1522058400-1522069200@parentingtogetherwc.org
SUMMARY:Spring Break Exploration Days
DESCRIPTION:As spring emerges from the dark days of winter and students emerge from the classroom\, we invite your whole family to discover the amazing wildlife at Tualatin River National Wildlife Refuge during Spring Break Exploration Days. This weekday event features hands-on nature activities and crafts for kids of all ages. \nEach day offers a different theme\, so feel free to drop in as much as you’d like\, and don’t let spring showers deter you\, activities will start in the classroom; we’ll be here rain or shine.\n \nCost: Spring Break Exploration Days is a FREE event! \nRegistration: No registration is required \nQuestions: Contact Education Coordinator\, Seth Winkelhake\, at Seth_Winkelhake@friendsoftualatinrefuge.org or (503) 625-5944
URL:https://parentingtogetherwc.org/event/spring-break-exploration-days/2018-03-26/
LOCATION:Tualatin River National Wildlife Refuge\, 19255 SW Pacific Highway\, Sherwood\, 97140\, United States
CATEGORIES:Family-Friendly,Kid Friendly
ATTACH;FMTTYPE=image/jpeg:https://parentingtogetherwc.org/wp-content/uploads/2018/03/DSC00414.jpg
ORGANIZER;CN="Tualatin River National Wildlife Refuge":MAILTO:Rachel_Dunham@fws.gov
GEO:45.3779682;-122.8346934
X-APPLE-STRUCTURED-LOCATION;VALUE=URI;X-ADDRESS=Tualatin River National Wildlife Refuge 19255 SW Pacific Highway Sherwood 97140 United States;X-APPLE-RADIUS=500;X-TITLE=19255 SW Pacific Highway:geo:-122.8346934,45.3779682
END:VEVENT
BEGIN:VEVENT
DTSTART;TZID=America/Los_Angeles:20180320T100000
DTEND;TZID=America/Los_Angeles:20180320T113000
DTSTAMP:20260422T172248
CREATED:20171127T055542Z
LAST-MODIFIED:20171127T055542Z
UID:10002429-1521540000-1521545400@parentingtogetherwc.org
SUMMARY:Puddle Stompers
DESCRIPTION:Do you have a little one who enjoys being outdoors? Are you wondering what they can do during the rainy season? Bring your littlest naturalist to the Refuge to stomp in puddles and learn to appreciate the wet weather that makes Oregon so green! \nThis preschool environmental education program invites children and their families to spend the morning learning about the natural wonders of the Refuge. Volunteer Naturalists will lead nature crafts\, share stories\, and guide hikes on Refuge trails. The Refuge supplies ‘froggy’ raingear for the kids\, but adults should bring their own. Each date offers a different theme\, so Puddle Stompers are encouraged to visit on multiple days. \nThis event is free & open to the public\, but registration is required. \nQuestions? Please contact Seth Winkelhake or call (503)625-5944.
URL:https://parentingtogetherwc.org/event/puddle-stompers-6/
LOCATION:Tualatin River National Wildlife Refuge\, 19255 SW Pacific Highway\, Sherwood\, 97140\, United States
CATEGORIES:Family-Friendly
ATTACH;FMTTYPE=image/jpeg:https://parentingtogetherwc.org/wp-content/uploads/2017/11/smaller-5.jpg
ORGANIZER;CN="Tualatin River National Wildlife Refuge":MAILTO:Rachel_Dunham@fws.gov
GEO:45.3779682;-122.8346934
X-APPLE-STRUCTURED-LOCATION;VALUE=URI;X-ADDRESS=Tualatin River National Wildlife Refuge 19255 SW Pacific Highway Sherwood 97140 United States;X-APPLE-RADIUS=500;X-TITLE=19255 SW Pacific Highway:geo:-122.8346934,45.3779682
END:VEVENT
BEGIN:VEVENT
DTSTART;TZID=America/Los_Angeles:20180314T130000
DTEND;TZID=America/Los_Angeles:20180314T143000
DTSTAMP:20260422T172248
CREATED:20171127T055410Z
LAST-MODIFIED:20171127T055410Z
UID:10002428-1521032400-1521037800@parentingtogetherwc.org
SUMMARY:Puddle Stompers
DESCRIPTION:Do you have a little one who enjoys being outdoors? Are you wondering what they can do during the rainy season? Bring your littlest naturalist to the Refuge to stomp in puddles and learn to appreciate the wet weather that makes Oregon so green! \nThis preschool environmental education program invites children and their families to spend the morning learning about the natural wonders of the Refuge. Volunteer Naturalists will lead nature crafts\, share stories\, and guide hikes on Refuge trails. The Refuge supplies ‘froggy’ raingear for the kids\, but adults should bring their own. Each date offers a different theme\, so Puddle Stompers are encouraged to visit on multiple days. \nThis event is free & open to the public\, but registration is required. \nQuestions? Please contact Seth Winkelhake or call (503)625-5944.
URL:https://parentingtogetherwc.org/event/puddle-stompers-4/
LOCATION:Tualatin River National Wildlife Refuge\, 19255 SW Pacific Highway\, Sherwood\, 97140\, United States
CATEGORIES:Family-Friendly
ATTACH;FMTTYPE=image/jpeg:https://parentingtogetherwc.org/wp-content/uploads/2017/11/smaller-4.jpg
ORGANIZER;CN="Tualatin River National Wildlife Refuge":MAILTO:Rachel_Dunham@fws.gov
GEO:45.3779682;-122.8346934
X-APPLE-STRUCTURED-LOCATION;VALUE=URI;X-ADDRESS=Tualatin River National Wildlife Refuge 19255 SW Pacific Highway Sherwood 97140 United States;X-APPLE-RADIUS=500;X-TITLE=19255 SW Pacific Highway:geo:-122.8346934,45.3779682
END:VEVENT
BEGIN:VEVENT
DTSTART;TZID=America/Los_Angeles:20180220T100000
DTEND;TZID=America/Los_Angeles:20180220T113000
DTSTAMP:20260422T172248
CREATED:20171127T055455Z
LAST-MODIFIED:20171127T055455Z
UID:10002950-1519120800-1519126200@parentingtogetherwc.org
SUMMARY:Puddle Stompers
DESCRIPTION:Do you have a little one who enjoys being outdoors? Are you wondering what they can do during the rainy season? Bring your littlest naturalist to the Refuge to stomp in puddles and learn to appreciate the wet weather that makes Oregon so green! \nThis preschool environmental education program invites children and their families to spend the morning learning about the natural wonders of the Refuge. Volunteer Naturalists will lead nature crafts\, share stories\, and guide hikes on Refuge trails. The Refuge supplies ‘froggy’ raingear for the kids\, but adults should bring their own. Each date offers a different theme\, so Puddle Stompers are encouraged to visit on multiple days. \nThis event is free & open to the public\, but registration is required. \nQuestions? Please contact Seth Winkelhake or call (503)625-5944.
URL:https://parentingtogetherwc.org/event/puddle-stompers-5/
LOCATION:Tualatin River National Wildlife Refuge\, 19255 SW Pacific Highway\, Sherwood\, 97140\, United States
CATEGORIES:Family-Friendly
ATTACH;FMTTYPE=image/jpeg:https://parentingtogetherwc.org/wp-content/uploads/2017/11/smaller-3.jpg
ORGANIZER;CN="Tualatin River National Wildlife Refuge":MAILTO:Rachel_Dunham@fws.gov
GEO:45.3779682;-122.8346934
X-APPLE-STRUCTURED-LOCATION;VALUE=URI;X-ADDRESS=Tualatin River National Wildlife Refuge 19255 SW Pacific Highway Sherwood 97140 United States;X-APPLE-RADIUS=500;X-TITLE=19255 SW Pacific Highway:geo:-122.8346934,45.3779682
END:VEVENT
BEGIN:VEVENT
DTSTART;TZID=America/Los_Angeles:20180214T130000
DTEND;TZID=America/Los_Angeles:20180214T143000
DTSTAMP:20260422T172248
CREATED:20171127T055326Z
LAST-MODIFIED:20171127T055326Z
UID:10002951-1518613200-1518618600@parentingtogetherwc.org
SUMMARY:Puddle Stompers
DESCRIPTION:Do you have a little one who enjoys being outdoors? Are you wondering what they can do during the rainy season? Bring your littlest naturalist to the Refuge to stomp in puddles and learn to appreciate the wet weather that makes Oregon so green! \nThis preschool environmental education program invites children and their families to spend the morning learning about the natural wonders of the Refuge. Volunteer Naturalists will lead nature crafts\, share stories\, and guide hikes on Refuge trails. The Refuge supplies ‘froggy’ raingear for the kids\, but adults should bring their own. Each date offers a different theme\, so Puddle Stompers are encouraged to visit on multiple days. \nThis event is free & open to the public\, but registration is required. \nQuestions? Please contact  Seth Winkelhake or call (503)625-5944.
URL:https://parentingtogetherwc.org/event/puddle-stompers-3/
LOCATION:Tualatin River National Wildlife Refuge\, 19255 SW Pacific Highway\, Sherwood\, 97140\, United States
CATEGORIES:Family-Friendly
ATTACH;FMTTYPE=image/jpeg:https://parentingtogetherwc.org/wp-content/uploads/2017/11/smaller-2.jpg
ORGANIZER;CN="Tualatin River National Wildlife Refuge":MAILTO:Rachel_Dunham@fws.gov
GEO:45.3779682;-122.8346934
X-APPLE-STRUCTURED-LOCATION;VALUE=URI;X-ADDRESS=Tualatin River National Wildlife Refuge 19255 SW Pacific Highway Sherwood 97140 United States;X-APPLE-RADIUS=500;X-TITLE=19255 SW Pacific Highway:geo:-122.8346934,45.3779682
END:VEVENT
BEGIN:VEVENT
DTSTART;TZID=America/Los_Angeles:20180203T100000
DTEND;TZID=America/Los_Angeles:20180203T120000
DTSTAMP:20260422T172248
CREATED:20171127T055758Z
LAST-MODIFIED:20171127T055758Z
UID:10002431-1517652000-1517659200@parentingtogetherwc.org
SUMMARY:Waterfowl Watch 101
DESCRIPTION:Join us for the “how to’s” of waterfowl watching. Build your skills with bird watching tools and tips\, practice identifying waterfowl and then venture out on the Refuge to see them in the wild! Please bring binoculars and a bird guide if you have them.  Loaners will be available.  This event is open to all skill levels.  This is a free event preregistration is required.  \nFor more information e-mail Rachel Dunham.
URL:https://parentingtogetherwc.org/event/waterfowl-watch-101-3/
LOCATION:Tualatin River National Wildlife Refuge\, 19255 SW Pacific Highway\, Sherwood\, 97140\, United States
CATEGORIES:Family-Friendly
ATTACH;FMTTYPE=image/jpeg:https://parentingtogetherwc.org/wp-content/uploads/2017/11/waterfowl-watch-2017-2018-1.jpg
ORGANIZER;CN="Tualatin River National Wildlife Refuge":MAILTO:Rachel_Dunham@fws.gov
GEO:45.3779682;-122.8346934
X-APPLE-STRUCTURED-LOCATION;VALUE=URI;X-ADDRESS=Tualatin River National Wildlife Refuge 19255 SW Pacific Highway Sherwood 97140 United States;X-APPLE-RADIUS=500;X-TITLE=19255 SW Pacific Highway:geo:-122.8346934,45.3779682
END:VEVENT
BEGIN:VEVENT
DTSTART;TZID=America/Los_Angeles:20180116T100000
DTEND;TZID=America/Los_Angeles:20180116T113000
DTSTAMP:20260422T172248
CREATED:20171127T055141Z
LAST-MODIFIED:20171127T055141Z
UID:10002952-1516096800-1516102200@parentingtogetherwc.org
SUMMARY:Puddle Stompers
DESCRIPTION:Do you have a little one who enjoys being outdoors? Are you wondering what they can do during the rainy season? Bring your littlest naturalist to the Refuge to stomp in puddles and learn to appreciate the wet weather that makes Oregon so green! \nThis preschool environmental education program invites children and their families to spend the morning learning about the natural wonders of the Refuge. Volunteer Naturalists will lead nature crafts\, share stories\, and guide hikes on Refuge trails. The Refuge supplies ‘froggy’ raingear for the kids\, but adults should bring their own. Each date offers a different theme\, so Puddle Stompers are encouraged to visit on multiple days. \nThis event is free & open to the public\, but registration is required. \nQuestions? Please contact Seth Winkelhake or call (503)625-5944.
URL:https://parentingtogetherwc.org/event/puddle-stompers-2/
LOCATION:Tualatin River National Wildlife Refuge\, 19255 SW Pacific Highway\, Sherwood\, 97140\, United States
CATEGORIES:Family-Friendly
ATTACH;FMTTYPE=image/jpeg:https://parentingtogetherwc.org/wp-content/uploads/2017/11/smaller-1.jpg
ORGANIZER;CN="Tualatin River National Wildlife Refuge":MAILTO:Rachel_Dunham@fws.gov
GEO:45.3779682;-122.8346934
X-APPLE-STRUCTURED-LOCATION;VALUE=URI;X-ADDRESS=Tualatin River National Wildlife Refuge 19255 SW Pacific Highway Sherwood 97140 United States;X-APPLE-RADIUS=500;X-TITLE=19255 SW Pacific Highway:geo:-122.8346934,45.3779682
END:VEVENT
BEGIN:VEVENT
DTSTART;TZID=America/Los_Angeles:20180110T130000
DTEND;TZID=America/Los_Angeles:20180110T143000
DTSTAMP:20260422T172248
CREATED:20171127T054859Z
LAST-MODIFIED:20171127T054859Z
UID:10002953-1515589200-1515594600@parentingtogetherwc.org
SUMMARY:Puddle Stompers
DESCRIPTION:Do you have a little one who enjoys being outdoors? Are you wondering what they can do during the rainy season? Bring your littlest naturalist to the Refuge to stomp in puddles and learn to appreciate the wet weather that makes Oregon so green! \nThis preschool environmental education program invites children and their families to spend the time learning about the natural wonders of the Refuge. Volunteer Naturalists will lead nature crafts\, share stories\, and guide hikes on Refuge trails. The Refuge supplies ‘froggy’ raingear for the kids\, but adults should bring their own. Each date offers a different theme\, so Puddle Stompers are encouraged to visit on multiple days. \nThis event is free & open to the public\, but registration is required. \nQuestions? Please contact  Seth Winkelhake or call (503)625-5944.
URL:https://parentingtogetherwc.org/event/puddle-stompers/
LOCATION:Tualatin River National Wildlife Refuge\, 19255 SW Pacific Highway\, Sherwood\, 97140\, United States
CATEGORIES:Family-Friendly
ATTACH;FMTTYPE=image/jpeg:https://parentingtogetherwc.org/wp-content/uploads/2017/11/smaller.jpg
ORGANIZER;CN="Tualatin River National Wildlife Refuge":MAILTO:Rachel_Dunham@fws.gov
GEO:45.3779682;-122.8346934
X-APPLE-STRUCTURED-LOCATION;VALUE=URI;X-ADDRESS=Tualatin River National Wildlife Refuge 19255 SW Pacific Highway Sherwood 97140 United States;X-APPLE-RADIUS=500;X-TITLE=19255 SW Pacific Highway:geo:-122.8346934,45.3779682
END:VEVENT
BEGIN:VEVENT
DTSTART;TZID=America/Los_Angeles:20180106T100000
DTEND;TZID=America/Los_Angeles:20180106T120000
DTSTAMP:20260422T172248
CREATED:20171127T055639Z
LAST-MODIFIED:20171127T055639Z
UID:10002430-1515232800-1515240000@parentingtogetherwc.org
SUMMARY:Waterfowl Watch 101
DESCRIPTION:Join us for the “how to’s” of waterfowl watching. Build your skills with bird watching tools and tips\, practice identifying waterfowl and then venture out on the Refuge to see them in the wild! Please bring binoculars and a bird guide if you have them.  Loaners will be available.  This event is open to all skill levels.  This is a free event preregistration is required.  \nFor more information e-mail Rachel Dunham.
URL:https://parentingtogetherwc.org/event/waterfowl-watch-101-2/
LOCATION:Tualatin River National Wildlife Refuge\, 19255 SW Pacific Highway\, Sherwood\, 97140\, United States
CATEGORIES:Family-Friendly
ATTACH;FMTTYPE=image/jpeg:https://parentingtogetherwc.org/wp-content/uploads/2017/11/waterfowl-watch-2017-2018.jpg
ORGANIZER;CN="Tualatin River National Wildlife Refuge":MAILTO:Rachel_Dunham@fws.gov
GEO:45.3779682;-122.8346934
X-APPLE-STRUCTURED-LOCATION;VALUE=URI;X-ADDRESS=Tualatin River National Wildlife Refuge 19255 SW Pacific Highway Sherwood 97140 United States;X-APPLE-RADIUS=500;X-TITLE=19255 SW Pacific Highway:geo:-122.8346934,45.3779682
END:VEVENT
BEGIN:VEVENT
DTSTART;TZID=America/Los_Angeles:20171202T100000
DTEND;TZID=America/Los_Angeles:20171202T120000
DTSTAMP:20260422T172248
CREATED:20171120T185508Z
LAST-MODIFIED:20171120T185508Z
UID:10002955-1512208800-1512216000@parentingtogetherwc.org
SUMMARY:Waterfowl Watch 101
DESCRIPTION:Join us for the “how to’s” of waterfowl watching. Build your skills with bird watching tools and tips\, practice identifying waterfowl and then venture out on the Refuge to see them in the wild! Please bring binoculars and a bird guide if you have them.  Loaners will be available.  This event is open to all skill levels. This is a free event\, preregistration is required. \nFor more information e-mail Rachel Dunham.
URL:https://parentingtogetherwc.org/event/waterfowl-watch-101/
LOCATION:Tualatin River National Wildlife Refuge\, 19255 SW Pacific Highway\, Sherwood\, 97140\, United States
CATEGORIES:Family-Friendly
ATTACH;FMTTYPE=image/jpeg:https://parentingtogetherwc.org/wp-content/uploads/2017/11/waterfowl-watch.jpg
ORGANIZER;CN="Tualatin River National Wildlife Refuge":MAILTO:Rachel_Dunham@fws.gov
GEO:45.3779682;-122.8346934
X-APPLE-STRUCTURED-LOCATION;VALUE=URI;X-ADDRESS=Tualatin River National Wildlife Refuge 19255 SW Pacific Highway Sherwood 97140 United States;X-APPLE-RADIUS=500;X-TITLE=19255 SW Pacific Highway:geo:-122.8346934,45.3779682
END:VEVENT
END:VCALENDAR