
BEGIN:VCALENDAR
VERSION:2.0
PRODID:-//Parenting Together Washington County - ECPv6.15.16.1//NONSGML v1.0//EN
CALSCALE:GREGORIAN
METHOD:PUBLISH
X-ORIGINAL-URL:https://parentingtogetherwc.org
X-WR-CALDESC:Events for Parenting Together Washington County
REFRESH-INTERVAL;VALUE=DURATION:PT1H
X-Robots-Tag:noindex
X-PUBLISHED-TTL:PT1H
BEGIN:VTIMEZONE
TZID:America/Los_Angeles
BEGIN:DAYLIGHT
TZOFFSETFROM:-0800
TZOFFSETTO:-0700
TZNAME:PDT
DTSTART:20180311T100000
END:DAYLIGHT
BEGIN:STANDARD
TZOFFSETFROM:-0700
TZOFFSETTO:-0800
TZNAME:PST
DTSTART:20181104T090000
END:STANDARD
BEGIN:DAYLIGHT
TZOFFSETFROM:-0800
TZOFFSETTO:-0700
TZNAME:PDT
DTSTART:20190310T100000
END:DAYLIGHT
BEGIN:STANDARD
TZOFFSETFROM:-0700
TZOFFSETTO:-0800
TZNAME:PST
DTSTART:20191103T090000
END:STANDARD
BEGIN:DAYLIGHT
TZOFFSETFROM:-0800
TZOFFSETTO:-0700
TZNAME:PDT
DTSTART:20200308T100000
END:DAYLIGHT
BEGIN:STANDARD
TZOFFSETFROM:-0700
TZOFFSETTO:-0800
TZNAME:PST
DTSTART:20201101T090000
END:STANDARD
END:VTIMEZONE
BEGIN:VEVENT
DTSTART;TZID=America/Los_Angeles:20190828T150000
DTEND;TZID=America/Los_Angeles:20190828T170000
DTSTAMP:20260423T004109
CREATED:20190722T225028Z
LAST-MODIFIED:20190722T225028Z
UID:10004051-1567004400-1567011600@parentingtogetherwc.org
SUMMARY:Active Parenting: First Five Years
DESCRIPTION:Active Parenting The First Five Years_BWCAug. 7th: Focus on styles of parenting\, ages and stages of development and building the bond with your child.  \nAug. 14th: Your child’s beautiful brain\, freedom with limits and “The A.C.T” of parenting.  \nAug. 21st: Choices and consequences\, mindful moments: loving and kindness\, and the power of encouragement.  \nAug. 28th: Six smart things parents can do to help their child get ready for school
URL:https://parentingtogetherwc.org/event/active-parenting-first-five-years/2019-08-28/
LOCATION:Young Parents Dreamers and Achivers\, 427 SE 8th Ave\, Hillsboro\, 97123
CATEGORIES:Parenting Classes,Parenting Workshop
ORGANIZER;CN="Virginia Garcia/Veronica Garcia":MAILTO:vgarcia2@vgmhc.org
END:VEVENT
BEGIN:VEVENT
DTSTART;TZID=America/Los_Angeles:20190821T150000
DTEND;TZID=America/Los_Angeles:20190821T170000
DTSTAMP:20260423T004109
CREATED:20190722T225028Z
LAST-MODIFIED:20190722T225028Z
UID:10004050-1566399600-1566406800@parentingtogetherwc.org
SUMMARY:Active Parenting: First Five Years
DESCRIPTION:Active Parenting The First Five Years_BWCAug. 7th: Focus on styles of parenting\, ages and stages of development and building the bond with your child.  \nAug. 14th: Your child’s beautiful brain\, freedom with limits and “The A.C.T” of parenting.  \nAug. 21st: Choices and consequences\, mindful moments: loving and kindness\, and the power of encouragement.  \nAug. 28th: Six smart things parents can do to help their child get ready for school
URL:https://parentingtogetherwc.org/event/active-parenting-first-five-years/2019-08-21/
LOCATION:Young Parents Dreamers and Achivers\, 427 SE 8th Ave\, Hillsboro\, 97123
CATEGORIES:Parenting Classes,Parenting Workshop
ORGANIZER;CN="Virginia Garcia/Veronica Garcia":MAILTO:vgarcia2@vgmhc.org
END:VEVENT
BEGIN:VEVENT
DTSTART;TZID=America/Los_Angeles:20190814T150000
DTEND;TZID=America/Los_Angeles:20190814T170000
DTSTAMP:20260423T004109
CREATED:20190722T225028Z
LAST-MODIFIED:20190722T225028Z
UID:10004049-1565794800-1565802000@parentingtogetherwc.org
SUMMARY:Active Parenting: First Five Years
DESCRIPTION:Active Parenting The First Five Years_BWCAug. 7th: Focus on styles of parenting\, ages and stages of development and building the bond with your child.  \nAug. 14th: Your child’s beautiful brain\, freedom with limits and “The A.C.T” of parenting.  \nAug. 21st: Choices and consequences\, mindful moments: loving and kindness\, and the power of encouragement.  \nAug. 28th: Six smart things parents can do to help their child get ready for school
URL:https://parentingtogetherwc.org/event/active-parenting-first-five-years/2019-08-14/
LOCATION:Young Parents Dreamers and Achivers\, 427 SE 8th Ave\, Hillsboro\, 97123
CATEGORIES:Parenting Classes,Parenting Workshop
ORGANIZER;CN="Virginia Garcia/Veronica Garcia":MAILTO:vgarcia2@vgmhc.org
END:VEVENT
BEGIN:VEVENT
DTSTART;TZID=America/Los_Angeles:20190807T150000
DTEND;TZID=America/Los_Angeles:20190807T170000
DTSTAMP:20260423T004109
CREATED:20190722T225028Z
LAST-MODIFIED:20190722T225028Z
UID:10004048-1565190000-1565197200@parentingtogetherwc.org
SUMMARY:Active Parenting: First Five Years
DESCRIPTION:Active Parenting The First Five Years_BWCAug. 7th: Focus on styles of parenting\, ages and stages of development and building the bond with your child.  \nAug. 14th: Your child’s beautiful brain\, freedom with limits and “The A.C.T” of parenting.  \nAug. 21st: Choices and consequences\, mindful moments: loving and kindness\, and the power of encouragement.  \nAug. 28th: Six smart things parents can do to help their child get ready for school
URL:https://parentingtogetherwc.org/event/active-parenting-first-five-years/2019-08-07/
LOCATION:Young Parents Dreamers and Achivers\, 427 SE 8th Ave\, Hillsboro\, 97123
CATEGORIES:Parenting Classes,Parenting Workshop
ORGANIZER;CN="Virginia Garcia/Veronica Garcia":MAILTO:vgarcia2@vgmhc.org
END:VEVENT
END:VCALENDAR